BEGIN:VCALENDAR
VERSION:2.0
PRODID:-//92.5 the River - ECPv5.16.3.1//NONSGML v1.0//EN
CALSCALE:GREGORIAN
METHOD:PUBLISH
X-WR-CALNAME:92.5 the River
X-ORIGINAL-URL:https://theriverboston.com
X-WR-CALDESC:Events for 92.5 the River
BEGIN:VTIMEZONE
TZID:America/New_York
BEGIN:DAYLIGHT
TZOFFSETFROM:-0500
TZOFFSETTO:-0400
TZNAME:EDT
DTSTART:20200308T070000
END:DAYLIGHT
BEGIN:STANDARD
TZOFFSETFROM:-0400
TZOFFSETTO:-0500
TZNAME:EST
DTSTART:20201101T060000
END:STANDARD
END:VTIMEZONE
BEGIN:VEVENT
DTSTART;TZID=America/New_York:20200223T150000
DTEND;TZID=America/New_York:20200223T173000
DTSTAMP:20260422T184930
CREATED:20190107T173034Z
LAST-MODIFIED:20200131T163511Z
UID:206271-1582470000-1582479000@theriverboston.com
SUMMARY:River Day at Bretton Woods Mountain Resort!
DESCRIPTION:It’s River Day at Bretton Woods! Head to the slopes for a day of skiing and snowboarding at New Hampshire’s largest ski area! Then\, make sure to head over to the Slopeside Pub at 3PM to hang out with the River Roadies! They’ll be providing a soundtrack to your day of riding\, and of course giving away fun prizes\, including tickets! River artist Jason Spooner will be making an appearance to provide some awesome live music! Also\, make sure to visit the Mama Rosie’s table for some cool merchandise! Mark your calendars and we’ll see you there! \n\n\n\n  \n 
URL:https://theriverboston.com/events/river-day-at-bretton-woods-mountain-resort/
LOCATION:Bretton Woods Mountain Resort\, 99 Ski Area Resort\, Bretton Woods\, NH\, 03575\, United States
END:VEVENT
END:VCALENDAR