BEGIN:VCALENDAR
VERSION:2.0
PRODID:-//92.5 the River - ECPv5.16.3.1//NONSGML v1.0//EN
CALSCALE:GREGORIAN
METHOD:PUBLISH
X-WR-CALNAME:92.5 the River
X-ORIGINAL-URL:https://theriverboston.com
X-WR-CALDESC:Events for 92.5 the River
BEGIN:VTIMEZONE
TZID:America/New_York
BEGIN:DAYLIGHT
TZOFFSETFROM:-0500
TZOFFSETTO:-0400
TZNAME:EDT
DTSTART:20170312T070000
END:DAYLIGHT
BEGIN:STANDARD
TZOFFSETFROM:-0400
TZOFFSETTO:-0500
TZNAME:EST
DTSTART:20171105T060000
END:STANDARD
END:VTIMEZONE
BEGIN:VEVENT
DTSTART;TZID=America/New_York:20170811T170000
DTEND;TZID=America/New_York:20170811T190000
DTSTAMP:20260421T115022
CREATED:20170809T175939Z
LAST-MODIFIED:20170809T180136Z
UID:52796-1502470800-1502478000@theriverboston.com
SUMMARY:The River goes to Canobie Lake Park
DESCRIPTION:Bring the whole family to Canobie Lake Park on August 11th for a night of fun with the River Roadies! Stop by our River tent to play some cornhole and win some awesome River merch and a chance to win VIP passes to the Riverfront Festival! \nWe will be set up from 5pm-7pm\, so grab your tickets today! \nEach Friday in  August 2017\, First Responders (with ID) will receive free admission for themselves. Law Enforcement\, Fire Departments\, and EMT’s with department\, company\, or town issued ID’s presented at the Guest Services Window at the time of purchase will qualify for the free admission.
URL:https://theriverboston.com/events/river-goes-canobie-lake-park/
LOCATION:Canobie Lake Park\, 85 N Policy St\, Salem\, NH\, 03079\, United States
END:VEVENT
END:VCALENDAR