BEGIN:VCALENDAR
VERSION:2.0
PRODID:-//92.5 the River - ECPv5.16.3.1//NONSGML v1.0//EN
CALSCALE:GREGORIAN
METHOD:PUBLISH
X-WR-CALNAME:92.5 the River
X-ORIGINAL-URL:https://theriverboston.com
X-WR-CALDESC:Events for 92.5 the River
BEGIN:VTIMEZONE
TZID:America/New_York
BEGIN:DAYLIGHT
TZOFFSETFROM:-0500
TZOFFSETTO:-0400
TZNAME:EDT
DTSTART:20170312T070000
END:DAYLIGHT
BEGIN:STANDARD
TZOFFSETFROM:-0400
TZOFFSETTO:-0500
TZNAME:EST
DTSTART:20171105T060000
END:STANDARD
END:VTIMEZONE
BEGIN:VEVENT
DTSTART;TZID=America/New_York:20170721T183000
DTEND;TZID=America/New_York:20170721T183000
DTSTAMP:20260423T132330
CREATED:20170714T161606Z
LAST-MODIFIED:20170714T161606Z
UID:50538-1500661800-1500661800@theriverboston.com
SUMMARY:River Night @ The Lowell Spinners
DESCRIPTION:Come join us for River Night at the Lowell Spinners on Friday\, July 21st! See our very own\, Matt Phipps\, throw out the first pitch – let’s just hope he makes it over the plate..get practicing\, Matt! We’ll have the street team giving out River merch and stick around for the after-game fireworks show! \nGet Your Tickets Today!
URL:https://theriverboston.com/events/river-night-lowell-spinners/
LOCATION:Lowell Spinners\, 450 Aiken St.\, Lowell\, MA\, 01854\, United States
END:VEVENT
END:VCALENDAR