BEGIN:VCALENDAR
VERSION:2.0
PRODID:-//92.5 the River - ECPv5.16.3.1//NONSGML v1.0//EN
CALSCALE:GREGORIAN
METHOD:PUBLISH
X-WR-CALNAME:92.5 the River
X-ORIGINAL-URL:https://theriverboston.com
X-WR-CALDESC:Events for 92.5 the River
BEGIN:VTIMEZONE
TZID:America/New_York
BEGIN:DAYLIGHT
TZOFFSETFROM:-0500
TZOFFSETTO:-0400
TZNAME:EDT
DTSTART:20160313T070000
END:DAYLIGHT
BEGIN:STANDARD
TZOFFSETFROM:-0400
TZOFFSETTO:-0500
TZNAME:EST
DTSTART:20161106T060000
END:STANDARD
END:VTIMEZONE
BEGIN:VEVENT
DTSTART;TZID=America/New_York:20160920T190000
DTEND;TZID=America/New_York:20160920T230000
DTSTAMP:20260421T083749
CREATED:20160613T144634Z
LAST-MODIFIED:20160613T144634Z
UID:14398-1474398000-1474412400@theriverboston.com
SUMMARY:The River Presents: Band of Horses!
DESCRIPTION:The River is proud to present Band of Horses at the Opheum Theatre!
URL:https://theriverboston.com/events/river-presents-band-horses/
LOCATION:Orpheum Theatre\, 1 Hamilton Place\, Boston\, MA\, 02108\, United States
END:VEVENT
END:VCALENDAR