BEGIN:VCALENDAR
VERSION:2.0
PRODID:-//92.5 the River - ECPv5.16.3.1//NONSGML v1.0//EN
CALSCALE:GREGORIAN
METHOD:PUBLISH
X-WR-CALNAME:92.5 the River
X-ORIGINAL-URL:https://theriverboston.com
X-WR-CALDESC:Events for 92.5 the River
BEGIN:VTIMEZONE
TZID:America/New_York
BEGIN:DAYLIGHT
TZOFFSETFROM:-0500
TZOFFSETTO:-0400
TZNAME:EDT
DTSTART:20170312T070000
END:DAYLIGHT
BEGIN:STANDARD
TZOFFSETFROM:-0400
TZOFFSETTO:-0500
TZNAME:EST
DTSTART:20171105T060000
END:STANDARD
END:VTIMEZONE
BEGIN:VEVENT
DTSTART;TZID=America/New_York:20170608T193000
DTEND;TZID=America/New_York:20170608T193000
DTSTAMP:20260425T132449
CREATED:20170221T203718Z
LAST-MODIFIED:20170221T203845Z
UID:35993-1496950200-1496950200@theriverboston.com
SUMMARY:the River Presents: City and Colour at the Blue Hills Bank Pavilion
DESCRIPTION:Join the River at Blue Hills Bank Pavilion on Thursday\, June 8th for a performance by\nCity and Colour! \n \nPre-sale tickets go on-sale Friday\, February 24th
URL:https://theriverboston.com/events/river-presents-city-colour-blue-hills-bank-pavilion/
LOCATION:Rockland Trust Bank Pavilion\, 290 Northern Avenue\, Boston\, MA\, 02210\, United States
END:VEVENT
END:VCALENDAR