BEGIN:VCALENDAR
VERSION:2.0
PRODID:-//92.5 the River - ECPv5.16.3.1//NONSGML v1.0//EN
CALSCALE:GREGORIAN
METHOD:PUBLISH
X-WR-CALNAME:92.5 the River
X-ORIGINAL-URL:https://theriverboston.com
X-WR-CALDESC:Events for 92.5 the River
BEGIN:VTIMEZONE
TZID:America/New_York
BEGIN:DAYLIGHT
TZOFFSETFROM:-0500
TZOFFSETTO:-0400
TZNAME:EDT
DTSTART:20170312T070000
END:DAYLIGHT
BEGIN:STANDARD
TZOFFSETFROM:-0400
TZOFFSETTO:-0500
TZNAME:EST
DTSTART:20171105T060000
END:STANDARD
END:VTIMEZONE
BEGIN:VEVENT
DTSTART;TZID=America/New_York:20170511T190000
DTEND;TZID=America/New_York:20170511T190000
DTSTAMP:20260425T164834
CREATED:20170221T214432Z
LAST-MODIFIED:20170221T214432Z
UID:36014-1494529200-1494529200@theriverboston.com
SUMMARY:the River Presents: Midnight Oil at the House of Blues
DESCRIPTION:Join the River at the House of Blues Boston on Thursday\, May 11th to see a performance by\nMidnight Oil!\n\nTickets go on-sale Friday\, February 24th\n\n 
URL:https://theriverboston.com/events/river-presents-midnight-oil-house-blues/
LOCATION:House of Blues Boston\, 15 Landsdowne Street\, Boston\, MA\, 02215\, United States
END:VEVENT
END:VCALENDAR