BEGIN:VCALENDAR
VERSION:2.0
PRODID:-//92.5 the River - ECPv5.16.3.1//NONSGML v1.0//EN
CALSCALE:GREGORIAN
METHOD:PUBLISH
X-WR-CALNAME:92.5 the River
X-ORIGINAL-URL:https://theriverboston.com
X-WR-CALDESC:Events for 92.5 the River
BEGIN:VTIMEZONE
TZID:America/New_York
BEGIN:DAYLIGHT
TZOFFSETFROM:-0500
TZOFFSETTO:-0400
TZNAME:EDT
DTSTART:20160313T070000
END:DAYLIGHT
BEGIN:STANDARD
TZOFFSETFROM:-0400
TZOFFSETTO:-0500
TZNAME:EST
DTSTART:20161106T060000
END:STANDARD
END:VTIMEZONE
BEGIN:VEVENT
DTSTART;TZID=America/New_York:20160912T190000
DTEND;TZID=America/New_York:20160912T220000
DTSTAMP:20260420T212415
CREATED:20160503T171940Z
LAST-MODIFIED:20160503T171940Z
UID:11565-1473706800-1473717600@theriverboston.com
SUMMARY:The River Presents: The Specials!
DESCRIPTION:The River is proud to present The Specials at the House of Blues Boston!
URL:https://theriverboston.com/events/river-presents-specials/
LOCATION:House of Blues Boston\, 15 Landsdowne Street\, Boston\, MA\, 02215\, United States
END:VEVENT
END:VCALENDAR