BEGIN:VCALENDAR
VERSION:2.0
PRODID:-//92.5 the River - ECPv5.16.3.1//NONSGML v1.0//EN
CALSCALE:GREGORIAN
METHOD:PUBLISH
X-WR-CALNAME:92.5 the River
X-ORIGINAL-URL:https://theriverboston.com
X-WR-CALDESC:Events for 92.5 the River
BEGIN:VTIMEZONE
TZID:America/New_York
BEGIN:DAYLIGHT
TZOFFSETFROM:-0500
TZOFFSETTO:-0400
TZNAME:EDT
DTSTART:20230312T070000
END:DAYLIGHT
BEGIN:STANDARD
TZOFFSETFROM:-0400
TZOFFSETTO:-0500
TZNAME:EST
DTSTART:20231105T060000
END:STANDARD
END:VTIMEZONE
BEGIN:VEVENT
DTSTART;TZID=America/New_York:20230211T150000
DTEND;TZID=America/New_York:20230211T170000
DTSTAMP:20260424T184856
CREATED:20230206T205343Z
LAST-MODIFIED:20230207T213338Z
UID:218269-1676127600-1676134800@theriverboston.com
SUMMARY:The River Roadies at Gunstock Mountain
DESCRIPTION:Join us this Saturday for an Après Ski Party in the Pistol Pub!\n\nBreathtaking views of Lake Winnipesaukee\n49 trails\nSkiing\, riding\, and tubing\nMusic on the Mountain from local favorites No Shame\n\nMunch on some tasty snacks on the upper level of the Historic Lodge at Gunstock and enjoy a Blue Moon on the balcony while looking out at the mountain. There will be live music by No Shame from 3-6pm! \nWe’ll be giving away tickets to see Chris Stapleton at Bank of NH Pavilion\, Robert Cray at Colonial Theatre in Laconia\, and many other great prizes. Don’t miss it! \n 
URL:https://theriverboston.com/events/river-roadies-at-gunstock-mountain/
LOCATION:Gunstock Mountain\, 719 Cherry Valley Road\, Gilford\, NH\, 03249\, United States
END:VEVENT
END:VCALENDAR