BEGIN:VCALENDAR
VERSION:2.0
PRODID:-//92.5 the River - ECPv5.16.3.1//NONSGML v1.0//EN
CALSCALE:GREGORIAN
METHOD:PUBLISH
X-WR-CALNAME:92.5 the River
X-ORIGINAL-URL:https://theriverboston.com
X-WR-CALDESC:Events for 92.5 the River
BEGIN:VTIMEZONE
TZID:America/New_York
BEGIN:DAYLIGHT
TZOFFSETFROM:-0500
TZOFFSETTO:-0400
TZNAME:EDT
DTSTART:20250309T070000
END:DAYLIGHT
BEGIN:STANDARD
TZOFFSETFROM:-0400
TZOFFSETTO:-0500
TZNAME:EST
DTSTART:20251102T060000
END:STANDARD
END:VTIMEZONE
BEGIN:VEVENT
DTSTART;TZID=America/New_York:20250807T170000
DTEND;TZID=America/New_York:20250807T190000
DTSTAMP:20260422T184044
CREATED:20250714T201313Z
LAST-MODIFIED:20250714T201313Z
UID:228136-1754586000-1754593200@theriverboston.com
SUMMARY:River Roadies at SurfSide on Salisbury Beach
DESCRIPTION:Join the River Roadies on Thursday\, 8/07/25 from 5-7pm on the deck at SurfSide on Salisbury Beach. SurfSide has awesome beach vibes with sensational views and fabulous fare. The River Roadies will have the prize wheel spinning\, and you could win some great River merchandise\, t-shirts and concert tickets. And while you’re there\, enter to win a pair of tickets to the Riverfest VIP Party on Salisbury Beach on Saturday\, 8/23/25 from 12pm-6pm. So join the River Roadies on the deck at SurfSide on Salisbury Beach on Thursday\, 8/07/25 from 5-7pm.
URL:https://theriverboston.com/events/river-roadies-at-surfside-on-salisbury-beach/
END:VEVENT
END:VCALENDAR