BEGIN:VCALENDAR
VERSION:2.0
PRODID:-//92.5 the River - ECPv5.16.3.1//NONSGML v1.0//EN
CALSCALE:GREGORIAN
METHOD:PUBLISH
X-WR-CALNAME:92.5 the River
X-ORIGINAL-URL:https://theriverboston.com
X-WR-CALDESC:Events for 92.5 the River
BEGIN:VTIMEZONE
TZID:America/New_York
BEGIN:DAYLIGHT
TZOFFSETFROM:-0500
TZOFFSETTO:-0400
TZNAME:EDT
DTSTART:20180311T070000
END:DAYLIGHT
BEGIN:STANDARD
TZOFFSETFROM:-0400
TZOFFSETTO:-0500
TZNAME:EST
DTSTART:20181104T060000
END:STANDARD
END:VTIMEZONE
BEGIN:VEVENT
DTSTART;TZID=America/New_York:20180728T120000
DTEND;TZID=America/New_York:20180728T140000
DTSTAMP:20260420T015716
CREATED:20180725T175638Z
LAST-MODIFIED:20180725T180048Z
UID:108905-1532779200-1532786400@theriverboston.com
SUMMARY:River Roadies @ Bonneville Customer Appreciation Event
DESCRIPTION:The River Roadies will be at the Bonneville Customer Appreciation Event on Saturday\, July 28!\nThe River Roadies will be there from noon to 2pm handing out prizes and giving away tickets to see the Counting Crows at the XFINITY Center! They’ll be BBQing and giving out good deals!
URL:https://theriverboston.com/events/river-roadies-bonneville-customer-appreciation-event/
LOCATION:Bonneville and Son Chrysler Dodge Jeep Ram\, 625 Hooksett Road\, Manchester\, NH\, 03104\, United States
END:VEVENT
END:VCALENDAR