BEGIN:VCALENDAR
VERSION:2.0
PRODID:-//92.5 the River - ECPv5.16.3.1//NONSGML v1.0//EN
CALSCALE:GREGORIAN
METHOD:PUBLISH
X-WR-CALNAME:92.5 the River
X-ORIGINAL-URL:https://theriverboston.com
X-WR-CALDESC:Events for 92.5 the River
BEGIN:VTIMEZONE
TZID:America/New_York
BEGIN:DAYLIGHT
TZOFFSETFROM:-0500
TZOFFSETTO:-0400
TZNAME:EDT
DTSTART:20180311T070000
END:DAYLIGHT
BEGIN:STANDARD
TZOFFSETFROM:-0400
TZOFFSETTO:-0500
TZNAME:EST
DTSTART:20181104T060000
END:STANDARD
END:VTIMEZONE
BEGIN:VEVENT
DTSTART;TZID=America/New_York:20180728T180000
DTEND;TZID=America/New_York:20180728T200000
DTSTAMP:20260420T015638
CREATED:20180725T174926Z
LAST-MODIFIED:20180725T174926Z
UID:108904-1532800800-1532808000@theriverboston.com
SUMMARY:River Roadies @ Canobie Lake Park
DESCRIPTION:The River Roadies will be visiting Canobie Lake Park in Salem\, NH on Saturday\, July 25\, 2018!\nThe River Roadies will be at Canobie Lake Park handing out prizes\, giving away concert tickets and playing some great tunes. Join us for a fun night at Canobie!
URL:https://theriverboston.com/events/river-roadies-canobie-lake-park/
LOCATION:Canobie Lake Park\, 85 N Policy St\, Salem\, NH\, 03079\, United States
END:VEVENT
END:VCALENDAR