BEGIN:VCALENDAR
VERSION:2.0
PRODID:-//92.5 the River - ECPv5.16.3.1//NONSGML v1.0//EN
CALSCALE:GREGORIAN
METHOD:PUBLISH
X-WR-CALNAME:92.5 the River
X-ORIGINAL-URL:https://theriverboston.com
X-WR-CALDESC:Events for 92.5 the River
BEGIN:VTIMEZONE
TZID:America/New_York
BEGIN:DAYLIGHT
TZOFFSETFROM:-0500
TZOFFSETTO:-0400
TZNAME:EDT
DTSTART:20170312T070000
END:DAYLIGHT
BEGIN:STANDARD
TZOFFSETFROM:-0400
TZOFFSETTO:-0500
TZNAME:EST
DTSTART:20171105T060000
END:STANDARD
END:VTIMEZONE
BEGIN:VEVENT
DTSTART;VALUE=DATE:20170226
DTEND;VALUE=DATE:20170227
DTSTAMP:20260425T202248
CREATED:20170214T212104Z
LAST-MODIFIED:20170221T163328Z
UID:35673-1488067200-1488153599@theriverboston.com
SUMMARY:River Ski Day at Bretton Woods!
DESCRIPTION:Do you love to ski but the price of lift tickets has you seeing sticker shock? \nWell the River has just the ticket for you! Sunday\, February 26th the River will be hosting a Ski day at Bretton Woods\, New Hampshire’s largest ski area-voted Best Snow in the East by Ski Magazine readers. \nIn addition to a fun-filled Après Ski Party with loads of prizes\, the River will be giving 50 listeners discounted TWO FOR ONE SKIING that day! Interested? Then visit our Tickets & Exclusive offers page. The first 50 people to enter the contest\, will receive a Two for One Lift ticket coupon! \nBrought to you by 92.5 the River and Rodgers Ski & Sport and Woodstock Inn Brewery \n \n***** \nThis is a Regency Spells Relief Qualifying Event! \n \nRegency Mortgage and the River will be qualifying 92 lucky individuals for ONE ROLL of he dice on April 15th. If you qualify for the finals – and your dice spell out REGENCY – you’ll win $250\,000 cash in the REGENCY SPELLS RELIEF Dice Roll contest\, as we try to make Tax Day less taxing for one lucky person! For details on qualifying events or to enter for your chance to be selected as a qualifier visit: http://www.RegencySpellsRelief.com. \nFor years Regency Mortgage has made the process of financing or refinancing home mortgages less taxing. Contact them today for a quote and see how much you can save on your mortgage payment. Visit: http://www.RegencyMTG.com. \nNOTE: Qualifiers must appear in person and may not substitute another individual in your place. Please Note: If you cannot be present at the finals event in Manchester\, NH on Saturday April 15th from noon-4:00 pm your chance to roll the dice is not transferable!
URL:https://theriverboston.com/events/river-ski-day-bretton-woods/
LOCATION:Bretton Woods Mountain Resort\, 99 Ski Area Resort\, Bretton Woods\, NH\, 03575\, United States
END:VEVENT
END:VCALENDAR