BEGIN:VCALENDAR
VERSION:2.0
PRODID:-//92.5 the River - ECPv5.16.3.1//NONSGML v1.0//EN
CALSCALE:GREGORIAN
METHOD:PUBLISH
X-WR-CALNAME:92.5 the River
X-ORIGINAL-URL:https://theriverboston.com
X-WR-CALDESC:Events for 92.5 the River
BEGIN:VTIMEZONE
TZID:America/New_York
BEGIN:DAYLIGHT
TZOFFSETFROM:-0500
TZOFFSETTO:-0400
TZNAME:EDT
DTSTART:20230312T070000
END:DAYLIGHT
BEGIN:STANDARD
TZOFFSETFROM:-0400
TZOFFSETTO:-0500
TZNAME:EST
DTSTART:20231105T060000
END:STANDARD
END:VTIMEZONE
BEGIN:VEVENT
DTSTART;TZID=America/New_York:20230225T200000
DTEND;TZID=America/New_York:20230225T200000
DTSTAMP:20260424T200826
CREATED:20230221T214520Z
LAST-MODIFIED:20230221T214559Z
UID:218381-1677355200-1677355200@theriverboston.com
SUMMARY:Robert Cray Band at Colonial Theatre
DESCRIPTION:BUY TICKETS HERE\nOver the past four decades\, Robert Cray has created a sound that rises from American roots\, blues\, soul and R&B\, with five Grammy wins\, 20 acclaimed studio albums and a bundle of live albums that punctuate the Blues Hall of Famer’s career. READ MORE
URL:https://theriverboston.com/events/robert-cray-band-at-colonial-theatre/
LOCATION:Colonial Theatre\, 617 Main St\, Laconia\, NH\, 03246\, United States
ORGANIZER;CN="Spectacle%20Management":MAILTO:info@spectaclemanagement.net
END:VEVENT
END:VCALENDAR