BEGIN:VCALENDAR
VERSION:2.0
PRODID:-//92.5 the River - ECPv5.16.3.1//NONSGML v1.0//EN
CALSCALE:GREGORIAN
METHOD:PUBLISH
X-WR-CALNAME:92.5 the River
X-ORIGINAL-URL:https://theriverboston.com
X-WR-CALDESC:Events for 92.5 the River
BEGIN:VTIMEZONE
TZID:America/New_York
BEGIN:DAYLIGHT
TZOFFSETFROM:-0500
TZOFFSETTO:-0400
TZNAME:EDT
DTSTART:20180311T070000
END:DAYLIGHT
BEGIN:STANDARD
TZOFFSETFROM:-0400
TZOFFSETTO:-0500
TZNAME:EST
DTSTART:20181104T060000
END:STANDARD
END:VTIMEZONE
BEGIN:VEVENT
DTSTART;TZID=America/New_York:20180909T190000
DTEND;TZID=America/New_York:20180909T230000
DTSTAMP:20260423T011033
CREATED:20180724T153245Z
LAST-MODIFIED:20180724T153245Z
UID:108715-1536519600-1536534000@theriverboston.com
SUMMARY:Robert Cray Band @ The Music Hall!
DESCRIPTION:Robert Cray Band at The Music Hall!\nCome see Robert Cray Band at The Music Hall on Sunday\, September 9th at 7:00 pm! Tickets go on sale for members on Friday\, July 27th at 10:00 am and non-members can purchase tickets on Saturday\, August 4th at 12:00 pm.
URL:https://theriverboston.com/events/robert-cray-band-the-music-hall/
LOCATION:The Music Hall\, 28 Chestnut Street\, Portsmouth\, NH\, 03801\, United States
END:VEVENT
END:VCALENDAR