BEGIN:VCALENDAR
VERSION:2.0
PRODID:-//92.5 the River - ECPv5.16.3.1//NONSGML v1.0//EN
CALSCALE:GREGORIAN
METHOD:PUBLISH
X-WR-CALNAME:92.5 the River
X-ORIGINAL-URL:https://theriverboston.com
X-WR-CALDESC:Events for 92.5 the River
BEGIN:VTIMEZONE
TZID:America/New_York
BEGIN:DAYLIGHT
TZOFFSETFROM:-0500
TZOFFSETTO:-0400
TZNAME:EDT
DTSTART:20170312T070000
END:DAYLIGHT
BEGIN:STANDARD
TZOFFSETFROM:-0400
TZOFFSETTO:-0500
TZNAME:EST
DTSTART:20171105T060000
END:STANDARD
END:VTIMEZONE
BEGIN:VEVENT
DTSTART;TZID=America/New_York:20170527T200000
DTEND;TZID=America/New_York:20170527T200000
DTSTAMP:20260425T150302
CREATED:20170516T172623Z
LAST-MODIFIED:20170516T172623Z
UID:44027-1495915200-1495915200@theriverboston.com
SUMMARY:Robert Cray at Cary Hall
DESCRIPTION:The Grammy award winning Robert Cray is performing at Cary Hall  on Saturday\, May 27th at 8:00pm! Cray’s vocals and impressive guitar playing along with a mix of pop\, rock\, jazz\, and R&B bring his jazz style into the modern age. Cray is one of few that can truly transform blues into a contemporary style\, and has put blues back on the music scene! Get tickets before they sell out here!
URL:https://theriverboston.com/events/robert-cray-cary-hall/
LOCATION:Cary Hall\, 1605 Massachusetts Ave\, Lexington\, MA\, 02420\, United States
END:VEVENT
END:VCALENDAR