BEGIN:VCALENDAR
VERSION:2.0
PRODID:-//92.5 the River - ECPv5.16.3.1//NONSGML v1.0//EN
CALSCALE:GREGORIAN
METHOD:PUBLISH
X-WR-CALNAME:92.5 the River
X-ORIGINAL-URL:https://theriverboston.com
X-WR-CALDESC:Events for 92.5 the River
BEGIN:VTIMEZONE
TZID:America/New_York
BEGIN:DAYLIGHT
TZOFFSETFROM:-0500
TZOFFSETTO:-0400
TZNAME:EDT
DTSTART:20160313T070000
END:DAYLIGHT
BEGIN:STANDARD
TZOFFSETFROM:-0400
TZOFFSETTO:-0500
TZNAME:EST
DTSTART:20161106T060000
END:STANDARD
END:VTIMEZONE
BEGIN:VEVENT
DTSTART;TZID=America/New_York:20161126T200000
DTEND;TZID=America/New_York:20161126T200000
DTSTAMP:20260425T072617
CREATED:20161118T192157Z
LAST-MODIFIED:20161118T192157Z
UID:26166-1480190400-1480190400@theriverboston.com
SUMMARY:Robert Randolph & the Family Band at the Cabot Theatre!
DESCRIPTION:Robert Randolph & the Family Band are playing at the Cabot Theatre in Beverly\, MA on Saturday\, November 26th! \nRandolph is a pedal steel guitar virtuoso from Newark\, New Jersey. He learned to play by watching other steel players during church services. He updated that basis with a mix of funk and soul\, giving a new face to the instrument. He is joined by Sarah and the Wild Versatile. The group has recently taken the Boston music scene by storm and their sound ranges from blues to synth rock\, folk to soul\, and almost anything in between.
URL:https://theriverboston.com/events/robert-randolph-family-band-cabot-theatre/
LOCATION:THE CABOT\, 286 Cabot Street\, Beverly\, MA\, 01915\, United States
END:VEVENT
END:VCALENDAR