BEGIN:VCALENDAR
VERSION:2.0
PRODID:-//92.5 the River - ECPv5.16.3.1//NONSGML v1.0//EN
CALSCALE:GREGORIAN
METHOD:PUBLISH
X-WR-CALNAME:92.5 the River
X-ORIGINAL-URL:https://theriverboston.com
X-WR-CALDESC:Events for 92.5 the River
BEGIN:VTIMEZONE
TZID:America/New_York
BEGIN:DAYLIGHT
TZOFFSETFROM:-0500
TZOFFSETTO:-0400
TZNAME:EDT
DTSTART:20160313T070000
END:DAYLIGHT
BEGIN:STANDARD
TZOFFSETFROM:-0400
TZOFFSETTO:-0500
TZNAME:EST
DTSTART:20161106T060000
END:STANDARD
END:VTIMEZONE
BEGIN:VEVENT
DTSTART;TZID=America/New_York:20160813T120000
DTEND;TZID=America/New_York:20160813T200000
DTSTAMP:20260419T143248
CREATED:20160706T132638Z
LAST-MODIFIED:20160706T132638Z
UID:15178-1471089600-1471118400@theriverboston.com
SUMMARY:Rock On Fest!
DESCRIPTION:Come enjoy this FREE festival for a day of music\, yoga\, and family fun in beautiful Concord\, NH! For information regarding the musical line-up and vendors\, click here!
URL:https://theriverboston.com/events/rock-on-fest/
LOCATION:White Park\, 1 White St.\, Concord\, NH\, 03301\, United States
END:VEVENT
END:VCALENDAR