BEGIN:VCALENDAR
VERSION:2.0
PRODID:-//92.5 the River - ECPv5.16.3.1//NONSGML v1.0//EN
CALSCALE:GREGORIAN
METHOD:PUBLISH
X-WR-CALNAME:92.5 the River
X-ORIGINAL-URL:https://theriverboston.com
X-WR-CALDESC:Events for 92.5 the River
BEGIN:VTIMEZONE
TZID:America/New_York
BEGIN:DAYLIGHT
TZOFFSETFROM:-0500
TZOFFSETTO:-0400
TZNAME:EDT
DTSTART:20160313T070000
END:DAYLIGHT
BEGIN:STANDARD
TZOFFSETFROM:-0400
TZOFFSETTO:-0500
TZNAME:EST
DTSTART:20161106T060000
END:STANDARD
END:VTIMEZONE
BEGIN:VEVENT
DTSTART;TZID=America/New_York:20161015T120000
DTEND;TZID=America/New_York:20161015T190000
DTSTAMP:20260423T044012
CREATED:20161006T171203Z
LAST-MODIFIED:20161007T183419Z
UID:22298-1476532800-1476558000@theriverboston.com
SUMMARY:RohtFest!
DESCRIPTION:Come on down to Rhot Marine in Marshfield MA\, Saturday October 15th for RohtFest! \nIncluded in the ticket price is a day full of live music from 12:00-7:00 PM and an incredible buffet from 1:00-5:00 PM! Featuring the Aldous Collins Band\, FREEVOLT\, Los Sugar Kings\, and Metta Jhana! Buffet includes lobster sliders\, jumbo shrimp cocktail\, clams casino\, buffalo chicken wings\, kids meals\, and much more! \nDon’t miss out on a beautiful day of music and food by the river!
URL:https://theriverboston.com/events/rohtfest/
LOCATION:Roht Marine\, 2205 Main Street\, Mansfield\, MA\, 02050\, United States
END:VEVENT
END:VCALENDAR