BEGIN:VCALENDAR
VERSION:2.0
PRODID:-//92.5 the River - ECPv5.16.3.1//NONSGML v1.0//EN
CALSCALE:GREGORIAN
METHOD:PUBLISH
X-WR-CALNAME:92.5 the River
X-ORIGINAL-URL:https://theriverboston.com
X-WR-CALDESC:Events for 92.5 the River
BEGIN:VTIMEZONE
TZID:America/New_York
BEGIN:DAYLIGHT
TZOFFSETFROM:-0500
TZOFFSETTO:-0400
TZNAME:EDT
DTSTART:20200308T070000
END:DAYLIGHT
BEGIN:STANDARD
TZOFFSETFROM:-0400
TZOFFSETTO:-0500
TZNAME:EST
DTSTART:20201101T060000
END:STANDARD
END:VTIMEZONE
BEGIN:VEVENT
DTSTART;TZID=America/New_York:20200312T200000
DTEND;TZID=America/New_York:20200312T200000
DTSTAMP:20260421T230359
CREATED:20191118T195934Z
LAST-MODIFIED:20200110T184900Z
UID:211141-1584043200-1584043200@theriverboston.com
SUMMARY:Rome & Duddy - Friends & Family Tour
DESCRIPTION:See Rome & Duddy on their Friends & Family Tour!\nRome & Duddy – Friends & Family is a special project from Rome Ramirez of Sublime and Duddy of Dirty Heads. Both Artists collaborated on 2008’s Lay Me Down\, which would go on to be the first song in history from an independant label to reach #1 on Billboard’s rock songs chart. The Friends & Family Tour will be a stripped down and intimate version of the Sublime and Dirty Heads live experience fans know and love.
URL:https://theriverboston.com/events/rome-duddy-friends-family-tour/
LOCATION:THE CABOT\, 286 Cabot Street\, Beverly\, MA\, 01915\, United States
END:VEVENT
END:VCALENDAR