BEGIN:VCALENDAR
VERSION:2.0
PRODID:-//92.5 the River - ECPv5.16.3.1//NONSGML v1.0//EN
CALSCALE:GREGORIAN
METHOD:PUBLISH
X-WR-CALNAME:92.5 the River
X-ORIGINAL-URL:https://theriverboston.com
X-WR-CALDESC:Events for 92.5 the River
BEGIN:VTIMEZONE
TZID:America/New_York
BEGIN:DAYLIGHT
TZOFFSETFROM:-0500
TZOFFSETTO:-0400
TZNAME:EDT
DTSTART:20200308T070000
END:DAYLIGHT
BEGIN:STANDARD
TZOFFSETFROM:-0400
TZOFFSETTO:-0500
TZNAME:EST
DTSTART:20201101T060000
END:STANDARD
END:VTIMEZONE
BEGIN:VEVENT
DTSTART;TZID=America/New_York:20200207T193000
DTEND;TZID=America/New_York:20200207T193000
DTSTAMP:20260423T074018
CREATED:20200124T183658Z
LAST-MODIFIED:20200124T183658Z
UID:211599-1581103800-1581103800@theriverboston.com
SUMMARY:Ronan Tynan At The Palace Theatre!
DESCRIPTION:Don’t miss Ronan Tynan at The Palace Theatre!\nIrish tenor\, recording artist\, physician\, and champion disabled athlete\, Ronan Tynan moves audiences like few others can. His stirring performances and personal story of triumph have brought him international fame. After winning the BBC talent show\, Go For It\, Tynan shot to stardom\, became a recording artist with Sony Music and sold-out concerts around the world soon followed. His debut album\, My Life Belongs to You\, released in 1998\, jumped to number five on the charts\, and that same year\, he joined Anthony Kearns and John McDermott as The Irish Tenors\, an instant worldwide sensation.
URL:https://theriverboston.com/events/ronan-tynan-at-the-palace-theatre/
LOCATION:The Palace Theatre\, 80 Hanover St\, Manchester\, NH\, 03101\, United States
END:VEVENT
END:VCALENDAR