BEGIN:VCALENDAR
VERSION:2.0
PRODID:-//92.5 the River - ECPv5.16.3.1//NONSGML v1.0//EN
CALSCALE:GREGORIAN
METHOD:PUBLISH
X-WR-CALNAME:92.5 the River
X-ORIGINAL-URL:https://theriverboston.com
X-WR-CALDESC:Events for 92.5 the River
BEGIN:VTIMEZONE
TZID:America/New_York
BEGIN:DAYLIGHT
TZOFFSETFROM:-0500
TZOFFSETTO:-0400
TZNAME:EDT
DTSTART:20240310T070000
END:DAYLIGHT
BEGIN:STANDARD
TZOFFSETFROM:-0400
TZOFFSETTO:-0500
TZNAME:EST
DTSTART:20241103T060000
END:STANDARD
END:VTIMEZONE
BEGIN:VEVENT
DTSTART;TZID=America/New_York:20240404T200000
DTEND;TZID=America/New_York:20240404T200000
DTSTAMP:20260425T082405
CREATED:20240314T155326Z
LAST-MODIFIED:20240314T155326Z
UID:223089-1712260800-1712260800@theriverboston.com
SUMMARY:Rufus Wainwright at Tupelo
DESCRIPTION:BUY TICKETS HERE\nRUFUS WAINWRIGHT AT TUPELO MUSIC HALL\nPraised by the New York Times for his “genuine originality\,” Rufus Wainwright has established himself as one of the great male vocalists\, songwriters\, and composers of his generation. The New York-born\, Montreal-raised singer-songwriter has released ten studio albums to date\, three DVDs\, and three live albums including the GRAMMY® nominated Rufus Does Judy at Carnegie Hall. He has collaborated with artists such as Elton John\, Burt Bacharach\, Miley Cyrus\, David Byrne\, Boy George\, Joni Mitchell\, Pet Shop Boys\, Heart\, Carly Rae Jepsen\, Robbie Williams\, Jessye Norman\, Billy Joel\, Paul Simon\, Sting\, and producer Mark Ronson\, among many others. He has written two operas and numerous songs for movies and TV. \nFIND MORE SHOWS AT TUPELO MUSIC HALL
URL:https://theriverboston.com/events/rufus-wainwright-at-tupelo/
LOCATION:Tupelo Music Hall\, 10 A Street\, Derry\, NH\, 03038\, United States
END:VEVENT
END:VCALENDAR