BEGIN:VCALENDAR
VERSION:2.0
PRODID:-//92.5 the River - ECPv5.16.3.1//NONSGML v1.0//EN
CALSCALE:GREGORIAN
METHOD:PUBLISH
X-WR-CALNAME:92.5 the River
X-ORIGINAL-URL:https://theriverboston.com
X-WR-CALDESC:Events for 92.5 the River
BEGIN:VTIMEZONE
TZID:America/New_York
BEGIN:DAYLIGHT
TZOFFSETFROM:-0500
TZOFFSETTO:-0400
TZNAME:EDT
DTSTART:20200308T070000
END:DAYLIGHT
BEGIN:STANDARD
TZOFFSETFROM:-0400
TZOFFSETTO:-0500
TZNAME:EST
DTSTART:20201101T060000
END:STANDARD
END:VTIMEZONE
BEGIN:VEVENT
DTSTART;TZID=America/New_York:20200227T193000
DTEND;TZID=America/New_York:20200227T193000
DTSTAMP:20260422T173024
CREATED:20200124T181259Z
LAST-MODIFIED:20200124T204241Z
UID:211598-1582831800-1582831800@theriverboston.com
SUMMARY:Runa: Celtic Roots Music At The Rex Theatre!
DESCRIPTION:Runa comes to The Palace Theatre!\nCeltic-American Roots music “super group”\, Runa\, continues to push the boundaries of Irish folk music into the Americana and roots music formats. Interweaving the haunting melodies and exuberant tunes of Ireland and Scotland with the lush harmonies and intoxicating rhythms of jazz\, bluegrass\, flamenco and blues\, they offer a thrilling and redefining take on traditional music. Don’t miss them when they come to The Palace!
URL:https://theriverboston.com/events/runa-celtic-roots-music-at-the-palace-theatre/
LOCATION:The Rex Theatre\, 23 Amherst St\, Manchester\, NH\, 03101\, United States
END:VEVENT
END:VCALENDAR