BEGIN:VCALENDAR
VERSION:2.0
PRODID:-//92.5 the River - ECPv5.16.3.1//NONSGML v1.0//EN
CALSCALE:GREGORIAN
METHOD:PUBLISH
X-WR-CALNAME:92.5 the River
X-ORIGINAL-URL:https://theriverboston.com
X-WR-CALDESC:Events for 92.5 the River
BEGIN:VTIMEZONE
TZID:America/New_York
BEGIN:DAYLIGHT
TZOFFSETFROM:-0500
TZOFFSETTO:-0400
TZNAME:EDT
DTSTART:20170312T070000
END:DAYLIGHT
BEGIN:STANDARD
TZOFFSETFROM:-0400
TZOFFSETTO:-0500
TZNAME:EST
DTSTART:20171105T060000
END:STANDARD
END:VTIMEZONE
BEGIN:VEVENT
DTSTART;TZID=America/New_York:20170227T130000
DTEND;TZID=America/New_York:20170227T140000
DTSTAMP:20260425T202147
CREATED:20170221T190953Z
LAST-MODIFIED:20170225T023542Z
UID:35981-1488200400-1488204000@theriverboston.com
SUMMARY:Saint Motel at the River Music Hall - Facebook LIVE
DESCRIPTION:Saint Motel is coming to the River Music Hall Monday\, February 27th for a 1:00 pm performance! If you didn’t win your way in\, we will be broadcasting the entire performance from Facebook LIVE! \nNo worries if you miss the performance online – you can watch it a week later on Xfinity. Just search “River” next Monday with your X-1 remote to  watch this and many other River Music Hall performances on the 92.5 LIVE OnDemand channel from Xfinity.
URL:https://theriverboston.com/events/saint-motel-river-music-hall/
LOCATION:River Music Hall\, 30 How Street\, Haverhill\, 01830\, United States
ORGANIZER;CN="92.5%20the%20River":MAILTO:promotions@wxrv.com
END:VEVENT
END:VCALENDAR