BEGIN:VCALENDAR
VERSION:2.0
PRODID:-//92.5 the River - ECPv5.16.3.1//NONSGML v1.0//EN
CALSCALE:GREGORIAN
METHOD:PUBLISH
X-WR-CALNAME:92.5 the River
X-ORIGINAL-URL:https://theriverboston.com
X-WR-CALDESC:Events for 92.5 the River
BEGIN:VTIMEZONE
TZID:America/New_York
BEGIN:DAYLIGHT
TZOFFSETFROM:-0500
TZOFFSETTO:-0400
TZNAME:EDT
DTSTART:20200308T070000
END:DAYLIGHT
BEGIN:STANDARD
TZOFFSETFROM:-0400
TZOFFSETTO:-0500
TZNAME:EST
DTSTART:20201101T060000
END:STANDARD
END:VTIMEZONE
BEGIN:VEVENT
DTSTART;TZID=America/New_York:20200314T200000
DTEND;TZID=America/New_York:20200314T230000
DTSTAMP:20260421T182809
CREATED:20200226T165814Z
LAST-MODIFIED:20200303T160330Z
UID:211920-1584216000-1584226800@theriverboston.com
SUMMARY:Saint Paddy's Comedy Spectacular At The Music Hall Portsmouth!
DESCRIPTION:  \nLooking to celebrate St. Patrick’s Day with some real Irish-style entertainment? If so\, don’t miss the annual Saint Paddy’s Comedy Spectacular at The Music Hall in Portsmouth! Featuring authentic Irish music and dance\, as well as some of the best comedy in the Boston area\, this event is the number-one place to be on March 14th! Here’s an overview of the entertainment you can expect: \n\nHosted by:  \nJack Lynch (Boston comedy veteran) \nFeaturing stand-up sets from:  \nJim McCue (Comedy Central\, Comcast Comedy Spotlight\, NBC’s Last Comic Standing) \nJoey Carroll (NESN’s Roughing It\, WCVB’s Chronicle\, Comedy Central’s Pulp Comics) \nErin Maguire (Gotham Comedy Live\, Comedy Central Roasts) \nDance performance from:  \nThe Murray Academy of Irish Dance \n\nTickets for this amazing night are on sale now\, but The River could be sending you and a guest to the event for free! For your chance to win\, visit our tickets and exclusive offers page! Don’t miss your chance to witness “comedy gold at the end of the rainbow!”
URL:https://theriverboston.com/events/saint-paddys-comedy-spectacular-at-the-music-hall-portsmouth/
LOCATION:The Music Hall\, 28 Chestnut Street\, Portsmouth\, NH\, 03801\, United States
END:VEVENT
END:VCALENDAR