BEGIN:VCALENDAR
VERSION:2.0
PRODID:-//92.5 the River - ECPv5.16.3.1//NONSGML v1.0//EN
CALSCALE:GREGORIAN
METHOD:PUBLISH
X-WR-CALNAME:92.5 the River
X-ORIGINAL-URL:https://theriverboston.com
X-WR-CALDESC:Events for 92.5 the River
BEGIN:VTIMEZONE
TZID:America/New_York
BEGIN:DAYLIGHT
TZOFFSETFROM:-0500
TZOFFSETTO:-0400
TZNAME:EDT
DTSTART:20190310T070000
END:DAYLIGHT
BEGIN:STANDARD
TZOFFSETFROM:-0400
TZOFFSETTO:-0500
TZNAME:EST
DTSTART:20191103T060000
END:STANDARD
END:VTIMEZONE
BEGIN:VEVENT
DTSTART;TZID=America/New_York:20190331T114500
DTEND;TZID=America/New_York:20190331T133000
DTSTAMP:20260419T191007
CREATED:20190318T192753Z
LAST-MODIFIED:20190318T193924Z
UID:207501-1554032700-1554039000@theriverboston.com
SUMMARY:Salem Film Festival - BUDDY at the Cabot Theatre
DESCRIPTION:A heartwarming tale of duty\, bravery\, and fur is coming to the Cabot Theatre! \nBUDDY paints a portrait of six guide dogs and their owners\, exploring the intimate bonds of loyalty\, dedication and love that exist between these animals and humans. From an 86-year-old blind woman who has never seen her canine companion to an autistic young boy who relies on his dog to know when he’s upset\, all six share stories about why these animals are critical and what they mean to them. \nBUDDY is playing at the Cabot Theatre on Sunday\, March 31st. You can enter to win tickets from the River in our Tickets & Exclusive Offers section. Trailers\, summaries\, and film listings are available at salemfilmfest.com.
URL:https://theriverboston.com/events/salem-film-festival-buddy-at-the-cabot-theatre/
LOCATION:THE CABOT\, 286 Cabot Street\, Beverly\, MA\, 01915\, United States
END:VEVENT
END:VCALENDAR