BEGIN:VCALENDAR
VERSION:2.0
PRODID:-//92.5 the River - ECPv5.16.3.1//NONSGML v1.0//EN
CALSCALE:GREGORIAN
METHOD:PUBLISH
X-WR-CALNAME:92.5 the River
X-ORIGINAL-URL:https://theriverboston.com
X-WR-CALDESC:Events for 92.5 the River
BEGIN:VTIMEZONE
TZID:America/New_York
BEGIN:DAYLIGHT
TZOFFSETFROM:-0500
TZOFFSETTO:-0400
TZNAME:EDT
DTSTART:20190310T070000
END:DAYLIGHT
BEGIN:STANDARD
TZOFFSETFROM:-0400
TZOFFSETTO:-0500
TZNAME:EST
DTSTART:20191103T060000
END:STANDARD
END:VTIMEZONE
BEGIN:VEVENT
DTSTART;TZID=America/New_York:20190331T103000
DTEND;TZID=America/New_York:20190331T123000
DTSTAMP:20260419T173710
CREATED:20190318T191655Z
LAST-MODIFIED:20190318T191827Z
UID:207493-1554028200-1554035400@theriverboston.com
SUMMARY:Salem Film Festival - ETHIOPIQUES: REVOLT OF THE SOUL
DESCRIPTION:Don’t miss Maciek Bochniak’s stirring musical documentary ETHIOPIQUES: REVOLT OF THE SOUL\, playing Sunday\, March 31st at the Peabody Essex Museum! \nFew know the compelling story of a lost generation of brilliant Ethiopian musicians whose unique sounds blended african and Western genres and influenced jazz and pop music in the late 20th Century. Set against the backdrop of political and social upheaval between the end of the Emperor Haile Selassie’s reign and rise of the repressive Communist Derg junta\, ETHIOPIQUES is an ode to courage\, audacity and the artists who produced trailblazing music against all odds. \nThe gifted musicians and their music were saved from obscurity by an avid follower of world music\, French musicologist Francis Falceto\, who was given a copy of an Ethiopian album and fell in love with the infectious sound. He shared his find with listeners and journalists and in 1997 produced the first series of Ethiopian CDs\, now in its 30th release. A must see\, the film features  playful animation and a lively soundtrack. \nETHIOPIQUES: REVOLT OF THE SOUL is playing Sunday\, March 31st at 10:30 a.m. in Salem! You can enter to win tickets from the River in our Tickets & Exclusive Offers section. Trailers\, summaries\, and film listings available at salemfilmfest.com.
URL:https://theriverboston.com/events/salem-film-festival-ethiopiques-revolt-of-the-soul/
LOCATION:Peabody Essex Museum\, 161 Essex St\, Salem\, MA\, 01970\, United States
END:VEVENT
END:VCALENDAR