BEGIN:VCALENDAR
VERSION:2.0
PRODID:-//92.5 the River - ECPv5.16.3.1//NONSGML v1.0//EN
CALSCALE:GREGORIAN
METHOD:PUBLISH
X-WR-CALNAME:92.5 the River
X-ORIGINAL-URL:https://theriverboston.com
X-WR-CALDESC:Events for 92.5 the River
BEGIN:VTIMEZONE
TZID:America/New_York
BEGIN:DAYLIGHT
TZOFFSETFROM:-0500
TZOFFSETTO:-0400
TZNAME:EDT
DTSTART:20190310T070000
END:DAYLIGHT
BEGIN:STANDARD
TZOFFSETFROM:-0400
TZOFFSETTO:-0500
TZNAME:EST
DTSTART:20191103T060000
END:STANDARD
END:VTIMEZONE
BEGIN:VEVENT
DTSTART;TZID=America/New_York:20190330T191000
DTEND;TZID=America/New_York:20190330T210000
DTSTAMP:20260419T144038
CREATED:20190318T190115Z
LAST-MODIFIED:20190318T191919Z
UID:207489-1553973000-1553979600@theriverboston.com
SUMMARY:Salem Film Festival - KATE NASH: UNDERESTIMATE THE GIRL
DESCRIPTION:Saturday\, March 30th\, KATE NASH: UNDERESTIMATE THE GIRL is playing at CinemaSalem as part of the Salem Film Festival! \nAt age 18\, Kate Nash reached the stratosphere of pop music\, vaulting from a working class family in North London into worldwide tours\, a platinum record and a season dominating the music charts. A few years later\, she is broken down and nearly homeless. Defrauded by her manager and dropped by an industry that cannot find a place for her in the girl-pop machine\, Kate struggles to retain her creative freedom and to remain an innovative voice in music. A testament to her struggles and resilience\, KATE NASH follows one woman into hard-won maturity as a businesswoman and spotlights her creative spirit\, showing other young women that they can live—and create—on their own terms. \nKATE NASH: UNDERESTIMATE THE GIRL will be playing Saturday\, March 30th\, and will feature music from Carissa Angelo before the screening. You can enter to win tickets from the River in our Tickets & Exclusive Offers section. Trailers\, summaries\, and film listings available at salemfilmfest.com.
URL:https://theriverboston.com/events/salem-film-festival-kate-nash-underestimate-the-girl/
LOCATION:CinemaSalem\, 1 E India Square Mall\, Salem\, MA\, 01970\, United States
END:VEVENT
END:VCALENDAR