BEGIN:VCALENDAR
VERSION:2.0
PRODID:-//92.5 the River - ECPv5.16.3.1//NONSGML v1.0//EN
CALSCALE:GREGORIAN
METHOD:PUBLISH
X-WR-CALNAME:92.5 the River
X-ORIGINAL-URL:https://theriverboston.com
X-WR-CALDESC:Events for 92.5 the River
BEGIN:VTIMEZONE
TZID:America/New_York
BEGIN:DAYLIGHT
TZOFFSETFROM:-0500
TZOFFSETTO:-0400
TZNAME:EDT
DTSTART:20190310T070000
END:DAYLIGHT
BEGIN:STANDARD
TZOFFSETFROM:-0400
TZOFFSETTO:-0500
TZNAME:EST
DTSTART:20191103T060000
END:STANDARD
END:VTIMEZONE
BEGIN:VEVENT
DTSTART;TZID=America/New_York:20190331T163000
DTEND;TZID=America/New_York:20190331T183000
DTSTAMP:20260419T204934
CREATED:20190318T193346Z
LAST-MODIFIED:20190318T193919Z
UID:207502-1554049800-1554057000@theriverboston.com
SUMMARY:Salem Film Festival - WHY CAN'T I BE ME? AROUND YOU at the Cabot Theatre
DESCRIPTION:Sometimes\, all we need are open minds in order to discover the best humanity has to offer. Filmmaker Harrod Blank knows this well. \nWhen Harrod’s camera-covered van breaks down in New Mexico he meets Rusty Tilden – a machining savant with a love of biking and drag racing. Rusty is also transitioning – having recently added a set of breasts.  An array of colorful characters and their automorphosis creations tell their story\, but at the core of it all is Rusty – who is embracing both genders while hoping for acceptance and love. \nWHY CAN’T I BE ME? AROUND YOU is being screened at the Cabot Theatre on Sunday\, March\, 31st! You can enter to win tickets from the River in our Tickets & Exclusive Offers section. Trailers\, summaries\, and film listings are available at salemfilmfest.com.
URL:https://theriverboston.com/events/salem-film-festival-why-cant-i-be-me-around-you-at-the-cabot-theatre/
LOCATION:THE CABOT\, 286 Cabot Street\, Beverly\, MA\, 01915\, United States
END:VEVENT
END:VCALENDAR