BEGIN:VCALENDAR
VERSION:2.0
PRODID:-//92.5 the River - ECPv5.16.3.1//NONSGML v1.0//EN
CALSCALE:GREGORIAN
METHOD:PUBLISH
X-WR-CALNAME:92.5 the River
X-ORIGINAL-URL:https://theriverboston.com
X-WR-CALDESC:Events for 92.5 the River
BEGIN:VTIMEZONE
TZID:America/New_York
BEGIN:DAYLIGHT
TZOFFSETFROM:-0500
TZOFFSETTO:-0400
TZNAME:EDT
DTSTART:20190310T070000
END:DAYLIGHT
BEGIN:STANDARD
TZOFFSETFROM:-0400
TZOFFSETTO:-0500
TZNAME:EST
DTSTART:20191103T060000
END:STANDARD
END:VTIMEZONE
BEGIN:VEVENT
DTSTART;TZID=America/New_York:20190406T090000
DTEND;TZID=America/New_York:20190406T103000
DTSTAMP:20260420T010418
CREATED:20190325T170139Z
LAST-MODIFIED:20190329T165850Z
UID:207665-1554541200-1554546600@theriverboston.com
SUMMARY:Salem Five Saugus Grand Opening!
DESCRIPTION:Saturday\, April 6th\, Salem Five is opening a brand new branch location! Boston Hockey Legend Cam Neely will be on hand to sign autographs and take photos with fans. Plus\, just for standing in line\, you can enter to win signed memorabilia from pucks to hockey jerseys! The new Salem Five is located just off route one! It all starts at 9 a.m. on Saturday\, April 6th!
URL:https://theriverboston.com/events/salem-five-saugus-grand-opening/
LOCATION:Salem Five Saugus\, 855 Broadway\, Saugus\, MA\, 01906\, United States
ORGANIZER;CN="Salem%20Five":MAILTO:mail@salemfive.com
END:VEVENT
END:VCALENDAR