BEGIN:VCALENDAR
VERSION:2.0
PRODID:-//92.5 the River - ECPv5.16.3.1//NONSGML v1.0//EN
CALSCALE:GREGORIAN
METHOD:PUBLISH
X-WR-CALNAME:92.5 the River
X-ORIGINAL-URL:https://theriverboston.com
X-WR-CALDESC:Events for 92.5 the River
BEGIN:VTIMEZONE
TZID:America/New_York
BEGIN:DAYLIGHT
TZOFFSETFROM:-0500
TZOFFSETTO:-0400
TZNAME:EDT
DTSTART:20150308T070000
END:DAYLIGHT
BEGIN:STANDARD
TZOFFSETFROM:-0400
TZOFFSETTO:-0500
TZNAME:EST
DTSTART:20151101T060000
END:STANDARD
END:VTIMEZONE
BEGIN:VEVENT
DTSTART;VALUE=DATE:20150708
DTEND;VALUE=DATE:20150709
DTSTAMP:20260421T232542
CREATED:20150528T142818Z
LAST-MODIFIED:20150528T142818Z
UID:7185-1436313600-1436399999@theriverboston.com
SUMMARY:Salem/ Windham Appreciation Day at Canobie Lake Park
DESCRIPTION:$15 Admission for Salem/ Windham residents!\nFind more specials \nCheck out Canobie Lake Park’s website and Facebook \nCheck out the River’s Facebook and Twitter to stay up to date on more deals this summer! \nSalem/Windham Appreciation Day: With proof of residency\, people of all ages who live in Salem or Windham NH will get $15 admission to the park!
URL:https://theriverboston.com/events/salem-windham-appreciation-day-at-canobie-lake-park/
LOCATION:Canobie Lake Park\, 85 N Policy St\, Salem\, NH\, 03079\, United States
END:VEVENT
END:VCALENDAR