BEGIN:VCALENDAR
VERSION:2.0
PRODID:-//92.5 the River - ECPv5.16.3.1//NONSGML v1.0//EN
CALSCALE:GREGORIAN
METHOD:PUBLISH
X-WR-CALNAME:92.5 the River
X-ORIGINAL-URL:https://theriverboston.com
X-WR-CALDESC:Events for 92.5 the River
BEGIN:VTIMEZONE
TZID:America/New_York
BEGIN:DAYLIGHT
TZOFFSETFROM:-0500
TZOFFSETTO:-0400
TZNAME:EDT
DTSTART:20250309T070000
END:DAYLIGHT
BEGIN:STANDARD
TZOFFSETFROM:-0400
TZOFFSETTO:-0500
TZNAME:EST
DTSTART:20251102T060000
END:STANDARD
END:VTIMEZONE
BEGIN:VEVENT
DTSTART;TZID=America/New_York:20250917T200000
DTEND;TZID=America/New_York:20250917T200000
DTSTAMP:20260423T103148
CREATED:20250604T151502Z
LAST-MODIFIED:20250604T151502Z
UID:227608-1758139200-1758139200@theriverboston.com
SUMMARY:Sam Fender @ Roadrunner
DESCRIPTION:Sam Fender | Wednesday\, September 17th \nDoors: 7 pm | Show: 8 pm \nSam Fender is headlining Roadrunner this September to showcase his newest album\, People Watching!  Fender describes People Watching as\, “a collection of songs about the human experience” that digs into the very essence of who he is at this point in time.  Often compared to Bruce Springsteen\, Fender also had Adam Granduciel of The War on Drugs as a co-producer on this album.  Be sure to catch Sam Fender while he is in town! \nGet tickets here!
URL:https://theriverboston.com/events/sam-fender-roadrunner/
LOCATION:Roadrunner\, 89 Guest Street\, Boston\, MA\, 02135\, United States
END:VEVENT
END:VCALENDAR