BEGIN:VCALENDAR
VERSION:2.0
PRODID:-//92.5 the River - ECPv5.16.3.1//NONSGML v1.0//EN
CALSCALE:GREGORIAN
METHOD:PUBLISH
X-WR-CALNAME:92.5 the River
X-ORIGINAL-URL:https://theriverboston.com
X-WR-CALDESC:Events for 92.5 the River
BEGIN:VTIMEZONE
TZID:America/New_York
BEGIN:DAYLIGHT
TZOFFSETFROM:-0500
TZOFFSETTO:-0400
TZNAME:EDT
DTSTART:20240310T070000
END:DAYLIGHT
BEGIN:STANDARD
TZOFFSETFROM:-0400
TZOFFSETTO:-0500
TZNAME:EST
DTSTART:20241103T060000
END:STANDARD
END:VTIMEZONE
BEGIN:VEVENT
DTSTART;TZID=America/New_York:20240210T200000
DTEND;TZID=America/New_York:20240210T200000
DTSTAMP:20260425T211904
CREATED:20240111T021253Z
LAST-MODIFIED:20240111T021253Z
UID:222526-1707595200-1707595200@theriverboston.com
SUMMARY:Sarah Blacker Band at The Music Hall Lounge
DESCRIPTION:BUY TICKETS HERE\nSARAH BLACKER BAND AT THE MUSIC HALL LOUNGE IN PORTSMOUTH\nMixing a blend of soulful singer-songwriter repertoire with hints of jazz\, classic rock\, and jamband\, the Sarah Blacker Band’s sound is familiar\, compelling\, and chill-evoking all in the same breath. Regularly compared to Joni Mitchell and Rickie Lee Jones\, Blacker\, who pens the majority of the trio’s repertoire and plays skillful rhythm guitar\, ukulele\, and lends her gorgeous lead vocals to the project\, was named ‘Female Performer of the Year’ in the New England Music Awards and is also a Boston Music Award nominee\, and a Board-Certified music therapist\, and Master’s Level Mental Health Clinician. READ MORE
URL:https://theriverboston.com/events/sarah-blacker-band-at-the-music-hall-lounge/
LOCATION:The Music Hall Lounge\, 131 Congress Street\, Portsmouth\, NH\, United States
END:VEVENT
END:VCALENDAR