BEGIN:VCALENDAR
VERSION:2.0
PRODID:-//92.5 the River - ECPv5.16.3.1//NONSGML v1.0//EN
CALSCALE:GREGORIAN
METHOD:PUBLISH
X-WR-CALNAME:92.5 the River
X-ORIGINAL-URL:https://theriverboston.com
X-WR-CALDESC:Events for 92.5 the River
BEGIN:VTIMEZONE
TZID:America/New_York
BEGIN:DAYLIGHT
TZOFFSETFROM:-0500
TZOFFSETTO:-0400
TZNAME:EDT
DTSTART:20150308T070000
END:DAYLIGHT
BEGIN:STANDARD
TZOFFSETFROM:-0400
TZOFFSETTO:-0500
TZNAME:EST
DTSTART:20151101T060000
END:STANDARD
END:VTIMEZONE
BEGIN:VEVENT
DTSTART;TZID=America/New_York:20150509T200000
DTEND;TZID=America/New_York:20150509T230000
DTSTAMP:20260424T031639
CREATED:20150508T145145Z
LAST-MODIFIED:20150508T145314Z
UID:7017-1431201600-1431212400@theriverboston.com
SUMMARY:Sarah Borges and Jason Spooner in North Andover!
DESCRIPTION:Catch Sarah Borges and Jason Spooner live at\nCrossroads Music Series in North Andover!\nAbout the artists: Known for delivering memorable live performances\, SARAH BORGES music has been praised for being “grittily brilliant and brilliantly rollicking…walking that fine line between punk and country”. Hailing from Taunton\, Massachusetts\, Borges majored in musical theatre at Emerson College and was signed to her first record label in 2004 on the strength of a performance at the South by Southwest Festival. \nMulti-award winning New England-based songwriter JASON SPOONER has received overwhelming recognition for his songwriting talents. Whether you’re a fan of great songwriting or power-house live performance\, Jason Spooner and his fabulous band represent a formidable emerging act that should be watched closely. \nREAD MORE \nBUY TICKETS \n 
URL:https://theriverboston.com/events/sarah-borges-and-jason-spooner-in-north-andover/
LOCATION:Crossroads Music Series\, 190 Academy Road\, North Andover\, MA\, 01845\, United States
END:VEVENT
END:VCALENDAR