BEGIN:VCALENDAR
VERSION:2.0
PRODID:-//92.5 the River - ECPv5.16.3.1//NONSGML v1.0//EN
CALSCALE:GREGORIAN
METHOD:PUBLISH
X-WR-CALNAME:92.5 the River
X-ORIGINAL-URL:https://theriverboston.com
X-WR-CALDESC:Events for 92.5 the River
BEGIN:VTIMEZONE
TZID:America/New_York
BEGIN:DAYLIGHT
TZOFFSETFROM:-0500
TZOFFSETTO:-0400
TZNAME:EDT
DTSTART:20170312T070000
END:DAYLIGHT
BEGIN:STANDARD
TZOFFSETFROM:-0400
TZOFFSETTO:-0500
TZNAME:EST
DTSTART:20171105T060000
END:STANDARD
END:VTIMEZONE
BEGIN:VEVENT
DTSTART;TZID=America/New_York:20170506T193000
DTEND;TZID=America/New_York:20170506T193000
DTSTAMP:20260425T150716
CREATED:20170328T182927Z
LAST-MODIFIED:20170328T182927Z
UID:39015-1494099000-1494099000@theriverboston.com
SUMMARY:Saturday Night Fever - Final Show!
DESCRIPTION:Saturday Night Fever is at the Palace Theatre in Manchester\, NH! Your final chance to see the performance is on Saturday\, May 6th at 7:30 PM. \nGo back to the days of the hustle and come see Tony Manero bust out the moves made famous by John Travolta! Adapted from the hit movie solidifying The Bee Gees as Disco icons with their hits\, “Stayin’ Alive\,” “How Deep is Your Love\,” “More Than a Woman” and “You Should Be Dancing”\, Saturday Night Fever will have you doing the Electric Slide all night long! \nPurchase tickets here. \nSaturday April 15 | 2:00 PM\, 7:30 PM\nFriday April 21 | 7:30 PM\nSaturday April 22 | 2:00 PM\, 7:30 PM\nSunday April 23 | 2:00 PM\nFriday April 28 | 7:30 PM\nSaturday April 29 | 2:00 PM\, 7:30 PM\nSunday April 30 | 2:00 PM\nThursday May 4 | 7:30 PM\nFriday May 5 | 7:30 PM\nSaturday May 6 | 2:00 PM\, 7:30 PM \n **Please note: This show contains adult themes and may not be appropriate for all audience members. Please call the Box Office with questions**
URL:https://theriverboston.com/events/saturday-night-fever-final-show/
LOCATION:Palace Theatre\, 80 Hanover Street\, Manchester\, NH\, 03101\, United States
END:VEVENT
END:VCALENDAR