BEGIN:VCALENDAR
VERSION:2.0
PRODID:-//92.5 the River - ECPv5.16.3.1//NONSGML v1.0//EN
CALSCALE:GREGORIAN
METHOD:PUBLISH
X-WR-CALNAME:92.5 the River
X-ORIGINAL-URL:https://theriverboston.com
X-WR-CALDESC:Events for 92.5 the River
BEGIN:VTIMEZONE
TZID:America/New_York
BEGIN:DAYLIGHT
TZOFFSETFROM:-0500
TZOFFSETTO:-0400
TZNAME:EDT
DTSTART:20210314T070000
END:DAYLIGHT
BEGIN:STANDARD
TZOFFSETFROM:-0400
TZOFFSETTO:-0500
TZNAME:EST
DTSTART:20211107T060000
END:STANDARD
END:VTIMEZONE
BEGIN:VEVENT
DTSTART;TZID=America/New_York:20211120T110000
DTEND;TZID=America/New_York:20211120T110000
DTSTAMP:20260420T015715
CREATED:20211110T191212Z
LAST-MODIFIED:20211110T191212Z
UID:215132-1637406000-1637406000@theriverboston.com
SUMMARY:Sea Festival of Trees
DESCRIPTION:The 9th Annual Sea Festival of Trees Opening Day!\nExperience the joy and excitement of the Seacoast’s most popular holiday tradition with glittering trees\, indoor ice skating\, Santa visits and more at Blue Ocean Event Center. \nClick here for a chance to win a tree!
URL:https://theriverboston.com/events/sea-festival-of-trees-3/
END:VEVENT
END:VCALENDAR