BEGIN:VCALENDAR
VERSION:2.0
PRODID:-//92.5 the River - ECPv5.16.3.1//NONSGML v1.0//EN
CALSCALE:GREGORIAN
METHOD:PUBLISH
X-WR-CALNAME:92.5 the River
X-ORIGINAL-URL:https://theriverboston.com
X-WR-CALDESC:Events for 92.5 the River
BEGIN:VTIMEZONE
TZID:America/New_York
BEGIN:DAYLIGHT
TZOFFSETFROM:-0500
TZOFFSETTO:-0400
TZNAME:EDT
DTSTART:20180311T070000
END:DAYLIGHT
BEGIN:STANDARD
TZOFFSETFROM:-0400
TZOFFSETTO:-0500
TZNAME:EST
DTSTART:20181104T060000
END:STANDARD
END:VTIMEZONE
BEGIN:VEVENT
DTSTART;TZID=America/New_York:20181124T120000
DTEND;TZID=America/New_York:20181124T140000
DTSTAMP:20260419T223609
CREATED:20181114T184323Z
LAST-MODIFIED:20181121T164841Z
UID:204690-1543060800-1543068000@theriverboston.com
SUMMARY:Sea Festival of Trees @ Blue Ocean Music Hall
DESCRIPTION:Sea Festival of Trees at the Blue Ocean Music Hall! \nGet into the Christmas spirit early this year at the Blue Ocean Music Hall with the Sea Festival of Trees! From Friday\, November 16th – Sunday\, December 2\, you and your family can walk through a maze of beautifully decorated 6-10-foot-high artificial trees that create a breathtaking array of color and lights\, as well as participate in a Tree Raffle to win a chance to take home the tree of your choice! There will also be wonderful performances throughout\, an indoor ice-rink\, giant gingerbread houses\, and\, of course\, visits from Santa! \nOn Saturday\, November 24th  you can join the River Roadies  from 12pm – 2pm! Come hang out to win some cool prizes like a River T-Shirt\, vinyl records\, and even tickets to see A Christmas Carol at the Palace Theatre or The Blue Man Group! \n  \nYou can find out more information about the event here.
URL:https://theriverboston.com/events/sea-festival-of-trees-blue-ocean-music-hall/
LOCATION:Blue Ocean Music Hall\, 4 Oceanfront North\, Salisbury\, MA\, 01952\, United States
END:VEVENT
END:VCALENDAR