BEGIN:VCALENDAR
VERSION:2.0
PRODID:-//92.5 the River - ECPv5.16.3.1//NONSGML v1.0//EN
CALSCALE:GREGORIAN
METHOD:PUBLISH
X-WR-CALNAME:92.5 the River
X-ORIGINAL-URL:https://theriverboston.com
X-WR-CALDESC:Events for 92.5 the River
BEGIN:VTIMEZONE
TZID:America/New_York
BEGIN:DAYLIGHT
TZOFFSETFROM:-0500
TZOFFSETTO:-0400
TZNAME:EDT
DTSTART:20140309T070000
END:DAYLIGHT
BEGIN:STANDARD
TZOFFSETFROM:-0400
TZOFFSETTO:-0500
TZNAME:EST
DTSTART:20141102T060000
END:STANDARD
END:VTIMEZONE
BEGIN:VEVENT
DTSTART;TZID=America/New_York:20140321T200000
DTEND;TZID=America/New_York:20140321T220000
DTSTAMP:20260425T164800
CREATED:20140311T143424Z
LAST-MODIFIED:20140311T143424Z
UID:2717-1395432000-1395439200@theriverboston.com
SUMMARY:See the Irish Rovers in Concord!
DESCRIPTION:For nearly 50 years\, The Irish Rovers have charmed and entertained audiences around the world with their exciting stage shows. The international ambassadors of Irish music\, who are known for their rousing drinking songs and beautiful original ballads\, have released 36 albums including favorite hit songs such as “Wasn’t That a Party\,” “The Drunken Sailor\,” and their signature song\, “The Unicorn.” With the band set to retire in 2015\, don’t miss what might be your last chance to experience this rollicking performance of good cheer! \nGrab your tickets HERE!
URL:https://theriverboston.com/events/see-irish-rovers-concord/
LOCATION:Capitol Center for the Arts\, 44 South Main Street\, Concord\, NH\, 03301\, United States
END:VEVENT
END:VCALENDAR