BEGIN:VCALENDAR
VERSION:2.0
PRODID:-//92.5 the River - ECPv5.16.3.1//NONSGML v1.0//EN
CALSCALE:GREGORIAN
METHOD:PUBLISH
X-WR-CALNAME:92.5 the River
X-ORIGINAL-URL:https://theriverboston.com
X-WR-CALDESC:Events for 92.5 the River
BEGIN:VTIMEZONE
TZID:America/New_York
BEGIN:DAYLIGHT
TZOFFSETFROM:-0500
TZOFFSETTO:-0400
TZNAME:EDT
DTSTART:20190310T070000
END:DAYLIGHT
BEGIN:STANDARD
TZOFFSETFROM:-0400
TZOFFSETTO:-0500
TZNAME:EST
DTSTART:20191103T060000
END:STANDARD
END:VTIMEZONE
BEGIN:VEVENT
DTSTART;TZID=America/New_York:20191008T200000
DTEND;TZID=America/New_York:20191008T230000
DTSTAMP:20260419T170202
CREATED:20190624T172443Z
LAST-MODIFIED:20191002T195716Z
UID:209517-1570564800-1570575600@theriverboston.com
SUMMARY:SHAED is coming to the Sinclair!
DESCRIPTION:Do you like SHAED? Well\, we have some good news to share if the answer to that question is yes. They’re coming to The Sinclair on Tuesday\, October 8th! \nAfter opening for The X Ambassadors all last year\, the electro-pop trio decided it was time to take their vivacity to the big stage. Headlined by their hit singles “Trampoline” and “Thunder\,” this 18+ concert is sure to create a string of memories for the ages! \nBefore you make any impulsive purchases to see SHAED and Absofacto\, try your luck here for a chance at a pair of tickets!
URL:https://theriverboston.com/events/shaed-is-coming-to-the-sinclair/
LOCATION:Sinclair\, 52 Church Street\, Cambridge\, 02138 \, United States
END:VEVENT
END:VCALENDAR