BEGIN:VCALENDAR
VERSION:2.0
PRODID:-//92.5 the River - ECPv5.16.3.1//NONSGML v1.0//EN
CALSCALE:GREGORIAN
METHOD:PUBLISH
X-WR-CALNAME:92.5 the River
X-ORIGINAL-URL:https://theriverboston.com
X-WR-CALDESC:Events for 92.5 the River
BEGIN:VTIMEZONE
TZID:America/New_York
BEGIN:DAYLIGHT
TZOFFSETFROM:-0500
TZOFFSETTO:-0400
TZNAME:EDT
DTSTART:20210314T070000
END:DAYLIGHT
BEGIN:STANDARD
TZOFFSETFROM:-0400
TZOFFSETTO:-0500
TZNAME:EST
DTSTART:20211107T060000
END:STANDARD
END:VTIMEZONE
BEGIN:VEVENT
DTSTART;TZID=America/New_York:20211215T200000
DTEND;TZID=America/New_York:20211215T200000
DTSTAMP:20260419T125308
CREATED:20211208T185932Z
LAST-MODIFIED:20211208T185932Z
UID:215382-1639598400-1639598400@theriverboston.com
SUMMARY:Shakey Graves @ The Royale
DESCRIPTION:Shakey Graves\nThe Royale\nDecember 14th & 15th | 8pm\nBuy tickets  \nShakey Graves is coming back to Boston! A double night feature at The Royale! It’s the 10 year anniversary of the album ‘Roll The Bones’ and it’s going to be a night of music you don’t want to miss! Win Shakey Graves tickets! Contest runs until December 10th at 3pm!
URL:https://theriverboston.com/events/shakey-graves-the-royale-2/
LOCATION:The Royale\, 279 Tremont St\, Boston\, MA\, 02116\, United States
END:VEVENT
END:VCALENDAR