BEGIN:VCALENDAR
VERSION:2.0
PRODID:-//92.5 the River - ECPv5.16.3.1//NONSGML v1.0//EN
CALSCALE:GREGORIAN
METHOD:PUBLISH
X-WR-CALNAME:92.5 the River
X-ORIGINAL-URL:https://theriverboston.com
X-WR-CALDESC:Events for 92.5 the River
BEGIN:VTIMEZONE
TZID:America/New_York
BEGIN:DAYLIGHT
TZOFFSETFROM:-0500
TZOFFSETTO:-0400
TZNAME:EDT
DTSTART:20170312T070000
END:DAYLIGHT
BEGIN:STANDARD
TZOFFSETFROM:-0400
TZOFFSETTO:-0500
TZNAME:EST
DTSTART:20171105T060000
END:STANDARD
END:VTIMEZONE
BEGIN:VEVENT
DTSTART;VALUE=DATE:20170203
DTEND;VALUE=DATE:20170204
DTSTAMP:20260425T231947
CREATED:20170116T180424Z
LAST-MODIFIED:20170116T182828Z
UID:32686-1486080000-1486166399@theriverboston.com
SUMMARY:Snowfest 2017 at Loon Mountain!
DESCRIPTION:Join the River and Tito’s Handmade Vodka at Loon Mountain on Friday\, February 3rd for Snowfest 2017! All proceeds benefit CASA of New Hampshire. \nLoon will close the Blue Ox trail to design a custom snow-golf course for anyone who wants to play a fun nine-holes on skis or snowboard. If golf isn’t up your alley\, take advantage of a day of skiing\, riding and more. Participants can start their day with a continental breakfast\, enjoy a Common Man Restaurants lunch buffet and cap off the event at the apres ski party in Babe’s Lounge where there will be raffles and live auctions! \nWe’ll be slope side with Tito’s games from 11:00 am – 2:00 pm. Look for the Tito’s RV Lounge where you can hop inside\, warm up\, and charge your phone! Then we’ll head inside Babe’s Blue Ox in the Governors Lodge from 2:30 – 5:00 pm for giveaways and raffles! Be on the lookout for delicious Tito’s Handmade Drink Specials throughout the night as well! \n   
URL:https://theriverboston.com/events/snowfest-2017-loon-mountain/
LOCATION:Loon Mountain\, 60 Loon Mountain Road\, Lincoln\, 03251\, United States
END:VEVENT
END:VCALENDAR