BEGIN:VCALENDAR
VERSION:2.0
PRODID:-//92.5 the River - ECPv5.16.3.1//NONSGML v1.0//EN
CALSCALE:GREGORIAN
METHOD:PUBLISH
X-WR-CALNAME:92.5 the River
X-ORIGINAL-URL:https://theriverboston.com
X-WR-CALDESC:Events for 92.5 the River
BEGIN:VTIMEZONE
TZID:America/New_York
BEGIN:DAYLIGHT
TZOFFSETFROM:-0500
TZOFFSETTO:-0400
TZNAME:EDT
DTSTART:20160313T070000
END:DAYLIGHT
BEGIN:STANDARD
TZOFFSETFROM:-0400
TZOFFSETTO:-0500
TZNAME:EST
DTSTART:20161106T060000
END:STANDARD
END:VTIMEZONE
BEGIN:VEVENT
DTSTART;TZID=America/New_York:20161111T200000
DTEND;TZID=America/New_York:20161111T200000
DTSTAMP:20260424T141105
CREATED:20161031T191157Z
LAST-MODIFIED:20161031T191226Z
UID:24398-1478894400-1478894400@theriverboston.com
SUMMARY:ONCE Somerville Presents: The Long Ryders
DESCRIPTION:The Long Ryders\n\nThis alternative country-rock band is back at it by popular demand! The Long Ryders have been around since the 80’s\, took a hiatus\, and are now coming back to rock the stage. This is their first time touring the East Coast in 29 years! They once stole the hearts of many with their classic American sound\, and now\, they’ve come to do it again. Don’t miss this show which is also featuring Cactus Attack! \nJoin the rocking at ONCE Somerville on November 11th. Doors open at 8:00 and the show starts at 9:00PM.
URL:https://theriverboston.com/events/somerville-presents-long-ryders/
LOCATION:ONCE Somerville\, 156 Highland Ave\, Somerville\, MA\, 02143\, United States
END:VEVENT
END:VCALENDAR