BEGIN:VCALENDAR
VERSION:2.0
PRODID:-//92.5 the River - ECPv5.16.3.1//NONSGML v1.0//EN
CALSCALE:GREGORIAN
METHOD:PUBLISH
X-WR-CALNAME:92.5 the River
X-ORIGINAL-URL:https://theriverboston.com
X-WR-CALDESC:Events for 92.5 the River
BEGIN:VTIMEZONE
TZID:America/New_York
BEGIN:DAYLIGHT
TZOFFSETFROM:-0500
TZOFFSETTO:-0400
TZNAME:EDT
DTSTART:20170312T070000
END:DAYLIGHT
BEGIN:STANDARD
TZOFFSETFROM:-0400
TZOFFSETTO:-0500
TZNAME:EST
DTSTART:20171105T060000
END:STANDARD
END:VTIMEZONE
BEGIN:VEVENT
DTSTART;TZID=America/New_York:20170524T150000
DTEND;TZID=America/New_York:20170524T150000
DTSTAMP:20260425T150743
CREATED:20170516T191504Z
LAST-MODIFIED:20170516T191648Z
UID:44017-1495638000-1495638000@theriverboston.com
SUMMARY:Songs from the Stables | Adam Ezra Group
DESCRIPTION:Budweiser presents\nSongs from the Stables\nWed\, May 24\, 3pm\nAnheuser-Busch Brewery\, Merrimack\, NH\n– featuring –\nThe Adam Ezra Group \nYou and a friend could enjoy this rare\, up-close performance with The Adam Ezra Group at the Anheuser-Busch Brewery in Merrimack\, NH\, home of the world-famous Budweiser Cyldesdales. Enjoy awesome live music in a cool setting\, get your photo taken with the band\, and enjoy and ice-cold Bud! \nVisit our Tickets & Exclusive Offers page to enter to win your way in! \n Songs from the Stables featuring The Adam Ezra Group is presented by Budweiser at the Anheuser-Busch Brewery in Merrimack\, NH—where beer\, and friends\, are made!
URL:https://theriverboston.com/events/songs-stables-adam-ezra-group/
LOCATION:Anheuser-Busch Brewery\, 221 Daniel Webster Highway\, Merrimack\, NH\, 03054\, United States
END:VEVENT
END:VCALENDAR