BEGIN:VCALENDAR
VERSION:2.0
PRODID:-//92.5 the River - ECPv5.16.3.1//NONSGML v1.0//EN
CALSCALE:GREGORIAN
METHOD:PUBLISH
X-WR-CALNAME:92.5 the River
X-ORIGINAL-URL:https://theriverboston.com
X-WR-CALDESC:Events for 92.5 the River
BEGIN:VTIMEZONE
TZID:America/New_York
BEGIN:DAYLIGHT
TZOFFSETFROM:-0500
TZOFFSETTO:-0400
TZNAME:EDT
DTSTART:20160313T070000
END:DAYLIGHT
BEGIN:STANDARD
TZOFFSETFROM:-0400
TZOFFSETTO:-0500
TZNAME:EST
DTSTART:20161106T060000
END:STANDARD
END:VTIMEZONE
BEGIN:VEVENT
DTSTART;TZID=America/New_York:20161013T200000
DTEND;TZID=America/New_York:20161013T200000
DTSTAMP:20260422T212137
CREATED:20161013T143924Z
LAST-MODIFIED:20161013T144204Z
UID:23438-1476388800-1476388800@theriverboston.com
SUMMARY:Allen Stone @ The Blue Ocean
DESCRIPTION:TONIGHT(11/13)\n\nAllen Stone @ The Blue Ocean Music Hall \n \nOn his third full-length album\, soul artist Allen Stone proves himself deeply devoted to making uncompromisingly soulful music that transcends all pop convention. Made in collaboration with Swedish soul singer/songwriter/phenom Magnus Tingsek\, Radius captures the warm energy of that creative connection and transports the listener to a higher and more exalted plane.
URL:https://theriverboston.com/events/soulful-artist-allen-stone-blue-ocean/
LOCATION:Blue Ocean Music Hall\, 4 Oceanfront North\, Salisbury\, MA\, 01952\, United States
END:VEVENT
END:VCALENDAR