BEGIN:VCALENDAR
VERSION:2.0
PRODID:-//92.5 the River - ECPv5.16.3.1//NONSGML v1.0//EN
CALSCALE:GREGORIAN
METHOD:PUBLISH
X-WR-CALNAME:92.5 the River
X-ORIGINAL-URL:https://theriverboston.com
X-WR-CALDESC:Events for 92.5 the River
BEGIN:VTIMEZONE
TZID:America/New_York
BEGIN:DAYLIGHT
TZOFFSETFROM:-0500
TZOFFSETTO:-0400
TZNAME:EDT
DTSTART:20170312T070000
END:DAYLIGHT
BEGIN:STANDARD
TZOFFSETFROM:-0400
TZOFFSETTO:-0500
TZNAME:EST
DTSTART:20171105T060000
END:STANDARD
END:VTIMEZONE
BEGIN:VEVENT
DTSTART;TZID=America/New_York:20170420T123000
DTEND;TZID=America/New_York:20170420T123000
DTSTAMP:20260425T183737
CREATED:20170417T164417Z
LAST-MODIFIED:20170417T165422Z
UID:41710-1492691400-1492691400@theriverboston.com
SUMMARY:Squirrel Nut Zippers and Ozomatli live in the River Music Hall
DESCRIPTION:Squirrel Nut Zippers and Ozomatli will be in the River Music Hall\, performing  double header! The performance is on Thursday\, April 20th at 12:30 pm before the head off to the Capitol Center for the Arts in Concord NH for their show later that night! \nThe only way in to the River Music Hall is to win\, so make sure to enter before Tuesday at midnight! \nLunch will be provided by: \n\n 
URL:https://theriverboston.com/events/squirrel-nut-zippers-ozomatli-live-river-music-hall/
LOCATION:River Music Hall\, 30 How Street\, Haverhill\, 01830\, United States
END:VEVENT
END:VCALENDAR