BEGIN:VCALENDAR
VERSION:2.0
PRODID:-//92.5 the River - ECPv5.16.3.1//NONSGML v1.0//EN
CALSCALE:GREGORIAN
METHOD:PUBLISH
X-WR-CALNAME:92.5 the River
X-ORIGINAL-URL:https://theriverboston.com
X-WR-CALDESC:Events for 92.5 the River
BEGIN:VTIMEZONE
TZID:America/New_York
BEGIN:DAYLIGHT
TZOFFSETFROM:-0500
TZOFFSETTO:-0400
TZNAME:EDT
DTSTART:20170312T070000
END:DAYLIGHT
BEGIN:STANDARD
TZOFFSETFROM:-0400
TZOFFSETTO:-0500
TZNAME:EST
DTSTART:20171105T060000
END:STANDARD
END:VTIMEZONE
BEGIN:VEVENT
DTSTART;TZID=America/New_York:20170820T193000
DTEND;TZID=America/New_York:20170820T210000
DTSTAMP:20260420T115654
CREATED:20170607T161139Z
LAST-MODIFIED:20170607T161139Z
UID:47441-1503257400-1503262800@theriverboston.com
SUMMARY:Stephen Stills and Judy Collins at the Lowell Summer Music Series
DESCRIPTION:Lowell Summer Music Series –\nStephen Stills and Judy Collins\nStephen Stills and Judy ‘Blue Eyes’ Collins\, joined by special guest Bhi Bhiman\, will be at Boarding House Park in Lowell\, MA on Sunday\, August 2oth. \nThe show will begin at 7:30pm. \nIn the event of inclement weather\, the event will be moved diagonally across the street to Lowell High School’s air-conditioned auditorium. \nGrab your tickets today!
URL:https://theriverboston.com/events/stephen-stills-judy-collins-lowell-summer-music-series/
LOCATION:Boarding House Park\, 40 French Street\, Lowell\, MA\, 01852\, United States
END:VEVENT
END:VCALENDAR