BEGIN:VCALENDAR
VERSION:2.0
PRODID:-//92.5 the River - ECPv5.16.3.1//NONSGML v1.0//EN
CALSCALE:GREGORIAN
METHOD:PUBLISH
X-WR-CALNAME:92.5 the River
X-ORIGINAL-URL:https://theriverboston.com
X-WR-CALDESC:Events for 92.5 the River
BEGIN:VTIMEZONE
TZID:America/New_York
BEGIN:DAYLIGHT
TZOFFSETFROM:-0500
TZOFFSETTO:-0400
TZNAME:EDT
DTSTART:20150308T070000
END:DAYLIGHT
BEGIN:STANDARD
TZOFFSETFROM:-0400
TZOFFSETTO:-0500
TZNAME:EST
DTSTART:20151101T060000
END:STANDARD
END:VTIMEZONE
BEGIN:VEVENT
DTSTART;TZID=America/New_York:20150801T160000
DTEND;TZID=America/New_York:20150801T190000
DTSTAMP:20260421T023957
CREATED:20150715T164321Z
LAST-MODIFIED:20180529T171508Z
UID:7788-1438444800-1438455600@theriverboston.com
SUMMARY:Stonewall Kitchen Battle of the Food Trucks
DESCRIPTION:It’s a Battle of the Food Trucks and You’re Invited!\nMark your calendars for Saturday\, August 1st from 4-7pm at Stonewall Kitchen in York as we welcome some of our favorite Maine based food trucks\, including Mainely Burgers\, Fishin’ Ships\, CN Shawarma\, Love Kupcakes\, Little Jamaica – Portland’s Island Flava\, Belle’s on Wheels and Cannoli Joe’s. \nSample items from each food truck available for the first hour\, as well as regular menu items for purchase. Enjoy refreshing tea from Finest Kind Tea\, enter to win a raffle basket filled with the latest and greatest\, hang with The River Team\, listen to live music from Rizing Tide and much more! \nTo find out more about this event\, check out Stonewall Kitchen’s website and on their Facebook.
URL:https://theriverboston.com/events/stonewall-battle-of-the-food-trucks/
END:VEVENT
END:VCALENDAR