BEGIN:VCALENDAR
VERSION:2.0
PRODID:-//92.5 the River - ECPv5.16.3.1//NONSGML v1.0//EN
CALSCALE:GREGORIAN
METHOD:PUBLISH
X-WR-CALNAME:92.5 the River
X-ORIGINAL-URL:https://theriverboston.com
X-WR-CALDESC:Events for 92.5 the River
BEGIN:VTIMEZONE
TZID:America/New_York
BEGIN:DAYLIGHT
TZOFFSETFROM:-0500
TZOFFSETTO:-0400
TZNAME:EDT
DTSTART:20180311T070000
END:DAYLIGHT
BEGIN:STANDARD
TZOFFSETFROM:-0400
TZOFFSETTO:-0500
TZNAME:EST
DTSTART:20181104T060000
END:STANDARD
END:VTIMEZONE
BEGIN:VEVENT
DTSTART;TZID=America/New_York:20180818T100000
DTEND;TZID=America/New_York:20180818T120000
DTSTAMP:20260421T165044
CREATED:20180814T165754Z
LAST-MODIFIED:20180814T170111Z
UID:112467-1534586400-1534593600@theriverboston.com
SUMMARY:Stove Shoppe's Annual Tent Sale!
DESCRIPTION:Join the River Roadies this Saturday\, August 18th the Stove Shoppe in Windham\, New Hampshire from 10am to 12pm!\nEnjoy free food and refreshments\, while taking advantage of incredible savings on the Stove Shoppe’s entire inventory of energy saving stoves and fireplaces during their annual tent sale. You’ll be able to enter to win some great River prizes\, including tickets to see Chris Stapleton at Bank of New Hampshire Pavilion. \n 
URL:https://theriverboston.com/events/stove-shoppes-annual-tent-sale/
LOCATION:The Stove Shoppe\, 25 Indian Rock Rd 111\, Windham\, NH\, 03087\, United States
ORGANIZER;CN="92.5%20the%20River":MAILTO:promotions@wxrv.com
END:VEVENT
END:VCALENDAR