BEGIN:VCALENDAR
VERSION:2.0
PRODID:-//92.5 the River - ECPv5.16.3.1//NONSGML v1.0//EN
CALSCALE:GREGORIAN
METHOD:PUBLISH
X-WR-CALNAME:92.5 the River
X-ORIGINAL-URL:https://theriverboston.com
X-WR-CALDESC:Events for 92.5 the River
BEGIN:VTIMEZONE
TZID:America/New_York
BEGIN:DAYLIGHT
TZOFFSETFROM:-0500
TZOFFSETTO:-0400
TZNAME:EDT
DTSTART:20190310T070000
END:DAYLIGHT
BEGIN:STANDARD
TZOFFSETFROM:-0400
TZOFFSETTO:-0500
TZNAME:EST
DTSTART:20191103T060000
END:STANDARD
END:VTIMEZONE
BEGIN:VEVENT
DTSTART;TZID=America/New_York:20190906T200000
DTEND;TZID=America/New_York:20190906T220000
DTSTAMP:20260423T225558
CREATED:20190628T142954Z
LAST-MODIFIED:20190628T142954Z
UID:209596-1567800000-1567807200@theriverboston.com
SUMMARY:Sunny War at The Music Hall Loft on September 6th!
DESCRIPTION:Sunny War’s restless spirit\, a byproduct of growing up semi-nomadic with a single mother\, led her to Venice Beach\, California\, where she’s been grinding the pavement for some years now\, making a name for her prodigious guitar work and incisive songwriting\, which touches on everything from police violence to alcoholism to love found and lost. \n\nPart of the Live at the Loft Series\, tickets go on sale July 6th.
URL:https://theriverboston.com/events/sunny-war-at-the-music-hall-loft-on-september-6th/
LOCATION:The Music Hall\, 28 Chestnut Street\, Portsmouth\, NH\, 03801\, United States
END:VEVENT
END:VCALENDAR