BEGIN:VCALENDAR
VERSION:2.0
PRODID:-//92.5 the River - ECPv5.16.3.1//NONSGML v1.0//EN
CALSCALE:GREGORIAN
METHOD:PUBLISH
X-WR-CALNAME:92.5 the River
X-ORIGINAL-URL:https://theriverboston.com
X-WR-CALDESC:Events for 92.5 the River
BEGIN:VTIMEZONE
TZID:America/New_York
BEGIN:DAYLIGHT
TZOFFSETFROM:-0500
TZOFFSETTO:-0400
TZNAME:EDT
DTSTART:20160313T070000
END:DAYLIGHT
BEGIN:STANDARD
TZOFFSETFROM:-0400
TZOFFSETTO:-0500
TZNAME:EST
DTSTART:20161106T060000
END:STANDARD
END:VTIMEZONE
BEGIN:VEVENT
DTSTART;TZID=America/New_York:20161203T200000
DTEND;TZID=America/New_York:20161203T200000
DTSTAMP:20260425T164834
CREATED:20161003T185956Z
LAST-MODIFIED:20161003T185956Z
UID:21467-1480795200-1480795200@theriverboston.com
SUMMARY:Suzanne Vega Live at The Larcom Performing Arts Theatre
DESCRIPTION:The Larcom Performing Arts Theatre proudly presents Suzanne Vega Live!! \nDon’t miss out seeing on seeing what is sure to be an incredible show!!
URL:https://theriverboston.com/events/suzanne-vega-live-larcom-performing-arts-theatre/
LOCATION:Larcom Performing Arts Theatre\, 13 Wallis Street \, Beverly\, MA\, 01915\, United States
END:VEVENT
END:VCALENDAR