BEGIN:VCALENDAR
VERSION:2.0
PRODID:-//92.5 the River - ECPv5.16.3.1//NONSGML v1.0//EN
CALSCALE:GREGORIAN
METHOD:PUBLISH
X-WR-CALNAME:92.5 the River
X-ORIGINAL-URL:https://theriverboston.com
X-WR-CALDESC:Events for 92.5 the River
BEGIN:VTIMEZONE
TZID:America/New_York
BEGIN:DAYLIGHT
TZOFFSETFROM:-0500
TZOFFSETTO:-0400
TZNAME:EDT
DTSTART:20260308T070000
END:DAYLIGHT
BEGIN:STANDARD
TZOFFSETFROM:-0400
TZOFFSETTO:-0500
TZNAME:EST
DTSTART:20261101T060000
END:STANDARD
END:VTIMEZONE
BEGIN:VEVENT
DTSTART;TZID=America/New_York:20260728T190000
DTEND;TZID=America/New_York:20260728T190000
DTSTAMP:20260424T231407
CREATED:20260216T055003Z
LAST-MODIFIED:20260216T055050Z
UID:230147-1785265200-1785265200@theriverboston.com
SUMMARY:Tame Impala @ TD Garden
DESCRIPTION:  \n\nView Tickets \nDeadbeat is the Grammy-Winning new album from Tame Impala\, a collection of wickedly potent club psych explorations from Kevin Parker\, featuring some of his most direct\, brain wormy songwriting to date\, including the breakout hit “Dracula.”
URL:https://theriverboston.com/events/tame-impala-td-garden-2026/
LOCATION:TD Garden\, 100 Legends Way\, Boston\, MA\, 02114\, United States
END:VEVENT
END:VCALENDAR